BEGIN:VCALENDAR
VERSION:2.0
PRODID:-//Figtree Anglican Church - ECPv6.15.20//NONSGML v1.0//EN
CALSCALE:GREGORIAN
METHOD:PUBLISH
X-ORIGINAL-URL:https://figtree.church
X-WR-CALDESC:Events for Figtree Anglican Church
REFRESH-INTERVAL;VALUE=DURATION:PT1H
X-Robots-Tag:noindex
X-PUBLISHED-TTL:PT1H
BEGIN:VTIMEZONE
TZID:Australia/Melbourne
BEGIN:STANDARD
TZOFFSETFROM:+1100
TZOFFSETTO:+1000
TZNAME:AEST
DTSTART:20240406T160000
END:STANDARD
BEGIN:DAYLIGHT
TZOFFSETFROM:+1000
TZOFFSETTO:+1100
TZNAME:AEDT
DTSTART:20241005T160000
END:DAYLIGHT
BEGIN:STANDARD
TZOFFSETFROM:+1100
TZOFFSETTO:+1000
TZNAME:AEST
DTSTART:20250405T160000
END:STANDARD
BEGIN:DAYLIGHT
TZOFFSETFROM:+1000
TZOFFSETTO:+1100
TZNAME:AEDT
DTSTART:20251004T160000
END:DAYLIGHT
BEGIN:STANDARD
TZOFFSETFROM:+1100
TZOFFSETTO:+1000
TZNAME:AEST
DTSTART:20260404T160000
END:STANDARD
BEGIN:DAYLIGHT
TZOFFSETFROM:+1000
TZOFFSETTO:+1100
TZNAME:AEDT
DTSTART:20261003T160000
END:DAYLIGHT
END:VTIMEZONE
BEGIN:VEVENT
DTSTART;VALUE=DATE:20250613
DTEND;VALUE=DATE:20250616
DTSTAMP:20260422T002416
CREATED:20250430T023542Z
LAST-MODIFIED:20250715T033732Z
UID:4291-1749772800-1750031999@figtree.church
SUMMARY:The Significant Marriage Course
DESCRIPTION:“We first engaged with The Significant Marriage in 2015. We have attended\, hosted\, and taught it a number of times since. It is one of the most exceptional coaching programs we have seen and commend it to all without hesitation” – Shane and Rachel Dirks \nA strong marriage does not happen by accident. But here’s the thing\, it’s not sufficient to simply have a strong marriage for yourself. The Bible teaches that marriage is a reflection of God’s love for his people and the union between Christ and His church. \nThe Significant Marriage will not only give you the opportunity to learn and design a strong and healthy marriage\, but it will also help you to consider your marriage’s purpose and to be able to understand and celebrate just why God has brought you together. \nMore details about The Significant Marriage can be found at thesignificantmarriage.com \nThis occasion features course founders Dave and Mary Gothi\, who have travelled the world delivering this course\, as our exclusive presenters. \nWe invite married couples or those soon to be married to invest in strengthening your marriage for you and discovering its significance in the kingdom. \nWhen:Friday\, 13 June – 6-9pmSaturday\, 14 June – 9am-5:30pmSunday\, 15 June – 8:30am-5pm (this will include the 10am church service) \nWhere: Figtree Anglican Church \nCost: $269 per couple.Price includes all materials\, refreshments and lunch on Saturday and Sunday. \nRegistrations Close: Monday 10 June 2025 \nFor more information contact Shane Dirks on 4272 1322 or email shane.dirks@figtree.church \n\n\nREGISTER\n\n\n  \n\n\n\n\n\n\n\n 
URL:https://figtree.church/event/the-significant-marriage-course/
LOCATION:Figtree Anglican Church\, 4-10 Gibsons Road\, Figtree\, NSW\, 2525\, Australia
ATTACH;FMTTYPE=image/jpeg:https://figtree.church/wp-content/uploads/2025/04/Significant-Marriage-website-2.jpg
END:VEVENT
END:VCALENDAR