BEGIN:VCALENDAR
VERSION:2.0
PRODID:-//Figtree Anglican Church - ECPv6.15.20//NONSGML v1.0//EN
CALSCALE:GREGORIAN
METHOD:PUBLISH
X-ORIGINAL-URL:https://figtree.church
X-WR-CALDESC:Events for Figtree Anglican Church
REFRESH-INTERVAL;VALUE=DURATION:PT1H
X-Robots-Tag:noindex
X-PUBLISHED-TTL:PT1H
BEGIN:VTIMEZONE
TZID:Australia/Melbourne
BEGIN:STANDARD
TZOFFSETFROM:+1100
TZOFFSETTO:+1000
TZNAME:AEST
DTSTART:20240406T160000
END:STANDARD
BEGIN:DAYLIGHT
TZOFFSETFROM:+1000
TZOFFSETTO:+1100
TZNAME:AEDT
DTSTART:20241005T160000
END:DAYLIGHT
BEGIN:STANDARD
TZOFFSETFROM:+1100
TZOFFSETTO:+1000
TZNAME:AEST
DTSTART:20250405T160000
END:STANDARD
BEGIN:DAYLIGHT
TZOFFSETFROM:+1000
TZOFFSETTO:+1100
TZNAME:AEDT
DTSTART:20251004T160000
END:DAYLIGHT
BEGIN:STANDARD
TZOFFSETFROM:+1100
TZOFFSETTO:+1000
TZNAME:AEST
DTSTART:20260404T160000
END:STANDARD
BEGIN:DAYLIGHT
TZOFFSETFROM:+1000
TZOFFSETTO:+1100
TZNAME:AEDT
DTSTART:20261003T160000
END:DAYLIGHT
END:VTIMEZONE
BEGIN:VEVENT
DTSTART;TZID=Australia/Melbourne:20250721T120000
DTEND;TZID=Australia/Melbourne:20250721T121500
DTSTAMP:20260421T225417
CREATED:20250717T035526Z
LAST-MODIFIED:20250717T053920Z
UID:5318-1753099200-1753100100@figtree.church
SUMMARY:Zoom Weekday Prayer
DESCRIPTION:JOIN ZOOM MEETING\n\nMeeting ID: 835 1031 4529Passcode: 701169 \n  \n\n\n\n\n\n\n\nJoin members of Figtree Anglican Church for a 15-minute time of prayer at midday on Mondays each week\, as we bring local\, national\, and international events before our sovereign Lord.  \nWe gather online via Zoom. Click the button below to join the meeting: \n\n\nJOIN ZOOM MEETING\n\nMeeting ID: 835 1031 4529Passcode: 701169 \n 
URL:https://figtree.church/event/zoom-weekday-prayer/
LOCATION:NSW
ATTACH;FMTTYPE=image/jpeg:https://figtree.church/wp-content/uploads/2025/07/zoom-prayer.jpg
END:VEVENT
END:VCALENDAR