BEGIN:VCALENDAR
VERSION:2.0
PRODID:-//Figtree Anglican Church - ECPv6.15.20//NONSGML v1.0//EN
CALSCALE:GREGORIAN
METHOD:PUBLISH
X-ORIGINAL-URL:https://figtree.church
X-WR-CALDESC:Events for Figtree Anglican Church
REFRESH-INTERVAL;VALUE=DURATION:PT1H
X-Robots-Tag:noindex
X-PUBLISHED-TTL:PT1H
BEGIN:VTIMEZONE
TZID:Australia/Melbourne
BEGIN:STANDARD
TZOFFSETFROM:+1100
TZOFFSETTO:+1000
TZNAME:AEST
DTSTART:20240406T160000
END:STANDARD
BEGIN:DAYLIGHT
TZOFFSETFROM:+1000
TZOFFSETTO:+1100
TZNAME:AEDT
DTSTART:20241005T160000
END:DAYLIGHT
BEGIN:STANDARD
TZOFFSETFROM:+1100
TZOFFSETTO:+1000
TZNAME:AEST
DTSTART:20250405T160000
END:STANDARD
BEGIN:DAYLIGHT
TZOFFSETFROM:+1000
TZOFFSETTO:+1100
TZNAME:AEDT
DTSTART:20251004T160000
END:DAYLIGHT
BEGIN:STANDARD
TZOFFSETFROM:+1100
TZOFFSETTO:+1000
TZNAME:AEST
DTSTART:20260404T160000
END:STANDARD
BEGIN:DAYLIGHT
TZOFFSETFROM:+1000
TZOFFSETTO:+1100
TZNAME:AEDT
DTSTART:20261003T160000
END:DAYLIGHT
END:VTIMEZONE
BEGIN:VEVENT
DTSTART;TZID=Australia/Melbourne:20250726T090000
DTEND;TZID=Australia/Melbourne:20250726T120000
DTSTAMP:20260421T225510
CREATED:20250715T054804Z
LAST-MODIFIED:20250716T230456Z
UID:5239-1753520400-1753531200@figtree.church
SUMMARY:Women's Winter Walks
DESCRIPTION:Join us for laid back conversations and a walk (or just coffee) in beautiful Mount Kembla. \nDate: Saturday 26 July \nTime and Location: Meet at 9am at the bottom of Stones Road in Mount Kembla (near Mount Kembla oval). \nChoose to either do a flat 4-5km walk OR a more challenging walk with elevation (note there is some uneven terrain so good walking shoes/sneakers required). \nThen\, meet at 10am at the cafe within Mount Kembla Village Hotel (the lounge area\, out the back). \nLadies\, we’d love to see you there!
URL:https://figtree.church/event/womens-winter-walks/
LOCATION:Mount Kembla
CATEGORIES:Women
ATTACH;FMTTYPE=image/jpeg:https://figtree.church/wp-content/uploads/2025/07/Winter-Walks-16x9-web-2.jpg
END:VEVENT
BEGIN:VEVENT
DTSTART;TZID=Australia/Melbourne:20250726T180000
DTEND;TZID=Australia/Melbourne:20250726T223000
DTSTAMP:20260421T225510
CREATED:20250715T054251Z
LAST-MODIFIED:20250715T054251Z
UID:5234-1753552800-1753569000@figtree.church
SUMMARY:In the In-Between: Young Adults Regional Event
DESCRIPTION:REGISTER\n\n\n\n\n\n\n\n\nThe Wollongong Young Adults community will be gathering for a night of community\, teaching\, conversation\, and worship. \nPeter Lenehan will be speaking from 2 John and will help us reflect upon the intersection of the pressures of young adulthood\, with the youth mental health crisis as we ask together\, as a regional young adult community\, how do we faithfully follow Jesus in the in-between. \nDate: Saturday\, 26 July \nTime: 6pm \nLocation: Dapto Anglican Church\, 100 Moombara St\, Dapto \nCost: $10pp\, dinner included. \nRegistrations are through trybooking. Book a free ticket and pay on the night: \n\n\nREGISTER
URL:https://figtree.church/event/in-the-in-between-young-adults-regional-event/
LOCATION:Dapto Anglican Church\, 100 Moombara St\, Dapto\, NSW\, 2530\, Australia
CATEGORIES:Young Adults
ATTACH;FMTTYPE=image/jpeg:https://figtree.church/wp-content/uploads/2025/07/YA-Regional-Event-July-2025-slide.jpg
END:VEVENT
END:VCALENDAR