BEGIN:VCALENDAR
VERSION:2.0
PRODID:-//Figtree Anglican Church - ECPv6.15.20//NONSGML v1.0//EN
CALSCALE:GREGORIAN
METHOD:PUBLISH
X-WR-CALNAME:Figtree Anglican Church
X-ORIGINAL-URL:https://figtree.church
X-WR-CALDESC:Events for Figtree Anglican Church
REFRESH-INTERVAL;VALUE=DURATION:PT1H
X-Robots-Tag:noindex
X-PUBLISHED-TTL:PT1H
BEGIN:VTIMEZONE
TZID:Australia/Melbourne
BEGIN:STANDARD
TZOFFSETFROM:+1100
TZOFFSETTO:+1000
TZNAME:AEST
DTSTART:20240406T160000
END:STANDARD
BEGIN:DAYLIGHT
TZOFFSETFROM:+1000
TZOFFSETTO:+1100
TZNAME:AEDT
DTSTART:20241005T160000
END:DAYLIGHT
BEGIN:STANDARD
TZOFFSETFROM:+1100
TZOFFSETTO:+1000
TZNAME:AEST
DTSTART:20250405T160000
END:STANDARD
BEGIN:DAYLIGHT
TZOFFSETFROM:+1000
TZOFFSETTO:+1100
TZNAME:AEDT
DTSTART:20251004T160000
END:DAYLIGHT
BEGIN:STANDARD
TZOFFSETFROM:+1100
TZOFFSETTO:+1000
TZNAME:AEST
DTSTART:20260404T160000
END:STANDARD
BEGIN:DAYLIGHT
TZOFFSETFROM:+1000
TZOFFSETTO:+1100
TZNAME:AEDT
DTSTART:20261003T160000
END:DAYLIGHT
END:VTIMEZONE
BEGIN:VTIMEZONE
TZID:UTC
BEGIN:STANDARD
TZOFFSETFROM:+0000
TZOFFSETTO:+0000
TZNAME:UTC
DTSTART:20230101T000000
END:STANDARD
END:VTIMEZONE
BEGIN:VEVENT
DTSTART;TZID=Australia/Melbourne:20250612T183000
DTEND;TZID=Australia/Melbourne:20250612T210000
DTSTAMP:20260420T015421
CREATED:20250430T021148Z
LAST-MODIFIED:20250430T032759Z
UID:4284-1749753000-1749762000@figtree.church
SUMMARY:A Parent Like Him Seminar
DESCRIPTION:A seminar for mums and dads on parenting. \n‘In love he predestined us for adoption to sonship through Jesus Christ…’ (Ephesians 1:5) \nOur Heavenly Father has established and grown a relationship with His children through His Son. ‘A Parent Like Him’ is a parenting seminar that seeks to help parents build deeper\, more connected relationships with their children through reminding\, exploring\, and applying the character traits of Jesus as we parent. \nAt times\, connecting with our children can be challenging; ‘A Parent Like Him’ will help to bridge the gap and cultivate Christlike character in both parent and child by practically applying the traits of Jesus to our relationships. \nCost: $49 per couple (includes all materials and snacks) \nLocation: Children’s Ministry Centre \nPlease note: At this stage\, there will not be child care provided \nSuitable for parents of children of all ages and stages. \nPresented by Mary Gothi – founder of The Significant Marriage\, Sunshine Kids orphanage\, and trained psychotherapist. \nREGISTER\n 
URL:https://figtree.church/event/a-parent-like-him-seminar/
LOCATION:Figtree Anglican Church\, 4-10 Gibsons Road\, Figtree\, NSW\, 2525\, Australia
ATTACH;FMTTYPE=image/jpeg:https://figtree.church/wp-content/uploads/2025/04/parent-like-him-website.jpg
END:VEVENT
BEGIN:VEVENT
DTSTART;VALUE=DATE:20250608
DTEND;VALUE=DATE:20250609
DTSTAMP:20260420T015421
CREATED:20250430T034306Z
LAST-MODIFIED:20250430T034306Z
UID:4309-1749340800-1749427199@figtree.church
SUMMARY:Young Adults Fam Dinner - June
DESCRIPTION:Our Young Adults community will be meeting at a local home for dinner following the 6pm church service. Find out more at the service\, and follow @figtreeyoungadults on Instagram for the latest news.
URL:https://figtree.church/event/young-adults-fam-dinner-june/
LOCATION:NSW
CATEGORIES:Young Adults
ATTACH;FMTTYPE=image/jpeg:https://figtree.church/wp-content/uploads/2025/04/Fam-Dinner-website-2025.jpg
END:VEVENT
BEGIN:VEVENT
DTSTART;TZID=Australia/Melbourne:20250601T120000
DTEND;TZID=Australia/Melbourne:20250601T150000
DTSTAMP:20260420T015421
CREATED:20250430T013327Z
LAST-MODIFIED:20250430T032034Z
UID:4276-1748779200-1748790000@figtree.church
SUMMARY:June Family Picnic
DESCRIPTION:Everyone’s invited for a casual picnic to enjoy time together and make new friends. Meet at Towradgi Beach Park Playground area anytime from 12pm. \nThere’s plenty to do\, from the playground to the oval and beach/ocean pool. Bring your own lunch; BBQs are available at the park. \nSee you there!
URL:https://figtree.church/event/june-family-picnic/
LOCATION:Towradgi Beach Park Playground\, 2 Towradgi Rd\, Towradgi\, NSW\, 2518\, Australia
CATEGORIES:Families,Kids
ATTACH;FMTTYPE=image/jpeg:https://figtree.church/wp-content/uploads/2025/04/Family-Picnic-website.jpg
END:VEVENT
BEGIN:VEVENT
DTSTART;TZID=UTC:20240916T080000
DTEND;TZID=UTC:20240928T130000
DTSTAMP:20260420T015421
CREATED:20240915T143345Z
LAST-MODIFIED:20240920T191258Z
UID:1708-1726473600-1727528400@figtree.church
SUMMARY:Church Working Bee
DESCRIPTION:Church Working Bee
URL:https://figtree.church/event/church-working-bee/
LOCATION:NSW
ATTACH;FMTTYPE=image/jpeg:https://figtree.church/wp-content/uploads/2024/09/Logo-goes-here-1024x793-2.jpg
END:VEVENT
END:VCALENDAR