BEGIN:VCALENDAR
VERSION:2.0
PRODID:-//Figtree Anglican Church - ECPv6.15.20//NONSGML v1.0//EN
CALSCALE:GREGORIAN
METHOD:PUBLISH
X-WR-CALNAME:Figtree Anglican Church
X-ORIGINAL-URL:https://figtree.church
X-WR-CALDESC:Events for Figtree Anglican Church
REFRESH-INTERVAL;VALUE=DURATION:PT1H
X-Robots-Tag:noindex
X-PUBLISHED-TTL:PT1H
BEGIN:VTIMEZONE
TZID:Australia/Melbourne
BEGIN:STANDARD
TZOFFSETFROM:+1100
TZOFFSETTO:+1000
TZNAME:AEST
DTSTART:20240406T160000
END:STANDARD
BEGIN:DAYLIGHT
TZOFFSETFROM:+1000
TZOFFSETTO:+1100
TZNAME:AEDT
DTSTART:20241005T160000
END:DAYLIGHT
BEGIN:STANDARD
TZOFFSETFROM:+1100
TZOFFSETTO:+1000
TZNAME:AEST
DTSTART:20250405T160000
END:STANDARD
BEGIN:DAYLIGHT
TZOFFSETFROM:+1000
TZOFFSETTO:+1100
TZNAME:AEDT
DTSTART:20251004T160000
END:DAYLIGHT
BEGIN:STANDARD
TZOFFSETFROM:+1100
TZOFFSETTO:+1000
TZNAME:AEST
DTSTART:20260404T160000
END:STANDARD
BEGIN:DAYLIGHT
TZOFFSETFROM:+1000
TZOFFSETTO:+1100
TZNAME:AEDT
DTSTART:20261003T160000
END:DAYLIGHT
END:VTIMEZONE
BEGIN:VEVENT
DTSTART;TZID=Australia/Melbourne:20250706T120000
DTEND;TZID=Australia/Melbourne:20250706T150000
DTSTAMP:20260421T212137
CREATED:20250430T031710Z
LAST-MODIFIED:20250715T032812Z
UID:4299-1751803200-1751814000@figtree.church
SUMMARY:July Family Picnic
DESCRIPTION:Everyone’s invited for a casual picnic to enjoy time together and make new friends. Meet at Figtree Park (aka Dragon Park) area anytime from 12pm. \nBring your own lunch; BBQs are available at the park. \nSee you there! \n\n\n\n\n\n\n\n\n\n 
URL:https://figtree.church/event/july-family-picnic/
LOCATION:Figtree Park\, 11 Princes Hwy\, Figtree\, NSW\, 2525\, Australia
CATEGORIES:Families,Kids
ATTACH;FMTTYPE=image/jpeg:https://figtree.church/wp-content/uploads/2025/04/Family-Picnic-website.jpg
END:VEVENT
BEGIN:VEVENT
DTSTART;VALUE=DATE:20250711
DTEND;VALUE=DATE:20250720
DTSTAMP:20260421T212137
CREATED:20250430T025139Z
LAST-MODIFIED:20250430T033500Z
UID:4295-1752192000-1752969599@figtree.church
SUMMARY:Fiji Mission Trip 2025
DESCRIPTION:In 2025\, Figtree Anglican Church will be sending a mission team to Fiji. \nDates: Friday 11 – Saturday 19 July 2025 \nLocation: Nadi\, Fiji \nWe are now accepting expressions of interest to join the team! Anticipated cost of the trip will be in the vicinity of $2\,500. \nTo register your interest\, please fill out this initial application form. \nTeam training will be over a number of sessions and include the Gerringong Evangelism Training weekend on 16-18 May. \nFor more information\, contact Langdon Stewart on 4272 1322 or send an email to langdon.stewart@figtree.church \nRegister Your Interest
URL:https://figtree.church/event/fiji-mission-trip-2025/
LOCATION:Nadi\, Fiji
ATTACH;FMTTYPE=image/jpeg:https://figtree.church/wp-content/uploads/2025/04/fiji-mission-website.jpg
END:VEVENT
BEGIN:VEVENT
DTSTART;TZID=Australia/Melbourne:20250716T120000
DTEND;TZID=Australia/Melbourne:20250716T140000
DTSTAMP:20260421T212137
CREATED:20250715T034600Z
LAST-MODIFIED:20250715T034600Z
UID:5207-1752667200-1752674400@figtree.church
SUMMARY:Seniors Christmas in July Lunch
DESCRIPTION:REGISTER\n\n\n\n\n\n\n\n\nYou’re warmly invited to share in our Seniors’ Christmas in July Lunch. \nEnjoy a delicious and festive lunch feast\, sing some favourite Christmas carols\, and hear about the joy and hope we have in knowing God came to dwell with us in Jesus. \nDate: Wednesday\, 16 July \nTime: 12pm \nLocation: Figtree Anglican Church Youth Hall \nCost: $10 pp \nRSVP: Please register and make payment by Friday\, 11 July. \nClick the button below to register online. Payment instructions are on the registration page: \n\n\nREGISTER
URL:https://figtree.church/event/christmas-in-july/
LOCATION:Figtree Anglican Church\, 4-10 Gibsons Road\, Figtree\, NSW\, 2525\, Australia
CATEGORIES:Seniors and Retirees
ATTACH;FMTTYPE=image/jpeg:https://figtree.church/wp-content/uploads/2025/07/Seniors-Christmas-July-16x9-web.jpg
END:VEVENT
BEGIN:VEVENT
DTSTART;VALUE=DATE:20250720
DTEND;VALUE=DATE:20250721
DTSTAMP:20260421T212137
CREATED:20250715T040730Z
LAST-MODIFIED:20250715T040730Z
UID:5210-1752969600-1753055999@figtree.church
SUMMARY:Young Adults Fam Dinner - July
DESCRIPTION:Our Young Adults community will be meeting at a local home for dinner following the Sunday 6pm church service. Find out more at the service\, and follow @figtreeyoungadults on Instagram for the latest news. \nFind the Figtree Young Adults Facebook group here.
URL:https://figtree.church/event/young-adults-fam-dinner-july/
LOCATION:NSW
CATEGORIES:Young Adults
ATTACH;FMTTYPE=image/jpeg:https://figtree.church/wp-content/uploads/2025/04/Fam-Dinner-website-2025.jpg
END:VEVENT
BEGIN:VEVENT
DTSTART;TZID=Australia/Melbourne:20250721T120000
DTEND;TZID=Australia/Melbourne:20250721T121500
DTSTAMP:20260421T212137
CREATED:20250717T035526Z
LAST-MODIFIED:20250717T053920Z
UID:5318-1753099200-1753100100@figtree.church
SUMMARY:Zoom Weekday Prayer
DESCRIPTION:JOIN ZOOM MEETING\n\nMeeting ID: 835 1031 4529Passcode: 701169 \n  \n\n\n\n\n\n\n\nJoin members of Figtree Anglican Church for a 15-minute time of prayer at midday on Mondays each week\, as we bring local\, national\, and international events before our sovereign Lord.  \nWe gather online via Zoom. Click the button below to join the meeting: \n\n\nJOIN ZOOM MEETING\n\nMeeting ID: 835 1031 4529Passcode: 701169 \n 
URL:https://figtree.church/event/zoom-weekday-prayer/
LOCATION:NSW
ATTACH;FMTTYPE=image/jpeg:https://figtree.church/wp-content/uploads/2025/07/zoom-prayer.jpg
END:VEVENT
BEGIN:VEVENT
DTSTART;TZID=Australia/Melbourne:20250726T090000
DTEND;TZID=Australia/Melbourne:20250726T120000
DTSTAMP:20260421T212137
CREATED:20250715T054804Z
LAST-MODIFIED:20250716T230456Z
UID:5239-1753520400-1753531200@figtree.church
SUMMARY:Women's Winter Walks
DESCRIPTION:Join us for laid back conversations and a walk (or just coffee) in beautiful Mount Kembla. \nDate: Saturday 26 July \nTime and Location: Meet at 9am at the bottom of Stones Road in Mount Kembla (near Mount Kembla oval). \nChoose to either do a flat 4-5km walk OR a more challenging walk with elevation (note there is some uneven terrain so good walking shoes/sneakers required). \nThen\, meet at 10am at the cafe within Mount Kembla Village Hotel (the lounge area\, out the back). \nLadies\, we’d love to see you there!
URL:https://figtree.church/event/womens-winter-walks/
LOCATION:Mount Kembla
CATEGORIES:Women
ATTACH;FMTTYPE=image/jpeg:https://figtree.church/wp-content/uploads/2025/07/Winter-Walks-16x9-web-2.jpg
END:VEVENT
BEGIN:VEVENT
DTSTART;TZID=Australia/Melbourne:20250726T180000
DTEND;TZID=Australia/Melbourne:20250726T223000
DTSTAMP:20260421T212137
CREATED:20250715T054251Z
LAST-MODIFIED:20250715T054251Z
UID:5234-1753552800-1753569000@figtree.church
SUMMARY:In the In-Between: Young Adults Regional Event
DESCRIPTION:REGISTER\n\n\n\n\n\n\n\n\nThe Wollongong Young Adults community will be gathering for a night of community\, teaching\, conversation\, and worship. \nPeter Lenehan will be speaking from 2 John and will help us reflect upon the intersection of the pressures of young adulthood\, with the youth mental health crisis as we ask together\, as a regional young adult community\, how do we faithfully follow Jesus in the in-between. \nDate: Saturday\, 26 July \nTime: 6pm \nLocation: Dapto Anglican Church\, 100 Moombara St\, Dapto \nCost: $10pp\, dinner included. \nRegistrations are through trybooking. Book a free ticket and pay on the night: \n\n\nREGISTER
URL:https://figtree.church/event/in-the-in-between-young-adults-regional-event/
LOCATION:Dapto Anglican Church\, 100 Moombara St\, Dapto\, NSW\, 2530\, Australia
CATEGORIES:Young Adults
ATTACH;FMTTYPE=image/jpeg:https://figtree.church/wp-content/uploads/2025/07/YA-Regional-Event-July-2025-slide.jpg
END:VEVENT
END:VCALENDAR