BEGIN:VCALENDAR
VERSION:2.0
PRODID:-//Figtree Anglican Church - ECPv6.15.20//NONSGML v1.0//EN
CALSCALE:GREGORIAN
METHOD:PUBLISH
X-ORIGINAL-URL:https://figtree.church
X-WR-CALDESC:Events for Figtree Anglican Church
REFRESH-INTERVAL;VALUE=DURATION:PT1H
X-Robots-Tag:noindex
X-PUBLISHED-TTL:PT1H
BEGIN:VTIMEZONE
TZID:Australia/Melbourne
BEGIN:STANDARD
TZOFFSETFROM:+1100
TZOFFSETTO:+1000
TZNAME:AEST
DTSTART:20240406T160000
END:STANDARD
BEGIN:DAYLIGHT
TZOFFSETFROM:+1000
TZOFFSETTO:+1100
TZNAME:AEDT
DTSTART:20241005T160000
END:DAYLIGHT
BEGIN:STANDARD
TZOFFSETFROM:+1100
TZOFFSETTO:+1000
TZNAME:AEST
DTSTART:20250405T160000
END:STANDARD
BEGIN:DAYLIGHT
TZOFFSETFROM:+1000
TZOFFSETTO:+1100
TZNAME:AEDT
DTSTART:20251004T160000
END:DAYLIGHT
BEGIN:STANDARD
TZOFFSETFROM:+1100
TZOFFSETTO:+1000
TZNAME:AEST
DTSTART:20260404T160000
END:STANDARD
BEGIN:DAYLIGHT
TZOFFSETFROM:+1000
TZOFFSETTO:+1100
TZNAME:AEDT
DTSTART:20261003T160000
END:DAYLIGHT
END:VTIMEZONE
BEGIN:VEVENT
DTSTART;VALUE=DATE:20250801
DTEND;VALUE=DATE:20250901
DTSTAMP:20260421T194550
CREATED:20250731T030719Z
LAST-MODIFIED:20250731T030719Z
UID:5586-1754006400-1756684799@figtree.church
SUMMARY:Let's stay connected: Communications Survey
DESCRIPTION:START SURVEY\n\n\n\n\n\n\n\n\nWe want to hear from you! We’re seeking your feedback on our communications at Figtree Anglican Church\, so we can strengthen how we connect\, share\, and serve. \nThe survey is anonymous and should take around 5 minutes to complete: \n\n\nSTART SURVEY
URL:https://figtree.church/event/lets-stay-connected-communications-survey/
LOCATION:NSW
ATTACH;FMTTYPE=image/jpeg:https://figtree.church/wp-content/uploads/2025/07/comms-survey-web.jpg
END:VEVENT
BEGIN:VEVENT
DTSTART;TZID=Australia/Melbourne:20250806T100000
DTEND;TZID=Australia/Melbourne:20250806T120000
DTSTAMP:20260421T194550
CREATED:20250715T043018Z
LAST-MODIFIED:20250715T043055Z
UID:5217-1754474400-1754481600@figtree.church
SUMMARY:Seniors Morning Tea - August
DESCRIPTION:Our seniors and retirees will be gathering from 10am for their monthly morning tea event in the church foyer. All are welcome; you don’t need to bring anything\, just turn up ready to enjoy fellowship with others.
URL:https://figtree.church/event/seniors-morning-tea-aug25/
LOCATION:Figtree Anglican Church\, 4-10 Gibsons Road\, Figtree\, NSW\, 2525\, Australia
CATEGORIES:Seniors and Retirees
ATTACH;FMTTYPE=image/jpeg:https://figtree.church/wp-content/uploads/2025/07/seniors-morning-tea-16x9-1.jpg
END:VEVENT
BEGIN:VEVENT
DTSTART;VALUE=DATE:20250816
DTEND;VALUE=DATE:20250825
DTSTAMP:20260421T194550
CREATED:20250715T055321Z
LAST-MODIFIED:20250812T045622Z
UID:5244-1755302400-1756079999@figtree.church
SUMMARY:World Missions Conference
DESCRIPTION:The annual World Missions Conference is our focus on gospel mission across the globe. It’s a reminder that as well as being involved in proclaiming the gospel here in Wollongong\, we also have a part to play in the gospel going forward around the world. \nThis year\, our special guest\, Warwick de Jersey\, will be speaking at all services on Sunday 17 and 24 August. \nCONFERENCE EVENTS\nWorld Missions Pot Luck Dinner\nSaturday 16 August | 6pm – 8:30pm | FAC Auditorium | Bring a dish to share \nMonday Night Conversation\nMonday 18 August | 7.30pm – 9:30pm | FAC Auditorium \nMissions Breakfast\nTuesday 19 August | 7:00am – 8:15am | Ambiance Ristorante Unanderra | $32 \nMission in the Modern World | Hosted by Figtree Young Adults\, all welcome!\nTuesday 19 August | 7-9pm | FAC Hub \nSeniors and Retirees Missions Luncheon\nWednesday\, 20 August | 12 – 2pm | FAC Hub | $10 \nWomen Alive\nThursday 21 August | 9:30am | FAC Foyer \nIndigenous Night\nThursday\, 21 August | 7:30pm – 9pm | FAC Auditorium \nVOX FM\nFriday 22 August | 12pm – 1pm | 106.9 FM \n24 Hours of Prayer\n8am Saturday 23 August – 8am Sunday 24 August | FAC Hub \nMissions Expo\nSunday 24 August | After the 8am and 10am services\, and from 4-6pm | FAC Foyer
URL:https://figtree.church/event/world-missions-conference/
LOCATION:Figtree Anglican Church\, 4-10 Gibsons Road\, Figtree\, NSW\, 2525\, Australia
ATTACH;FMTTYPE=image/jpeg:https://figtree.church/wp-content/uploads/2025/07/WMC-general-slide2.jpg
END:VEVENT
BEGIN:VEVENT
DTSTART;TZID=Australia/Melbourne:20250816T180000
DTEND;TZID=Australia/Melbourne:20250816T203000
DTSTAMP:20260421T194550
CREATED:20250723T021426Z
LAST-MODIFIED:20250805T065158Z
UID:5441-1755367200-1755376200@figtree.church
SUMMARY:Missions Pot Luck Dinner
DESCRIPTION:REGISTER\n\n\n\n\n\n\n\n\nThe Missions Pot Luck Dinner is the opening celebration of the World Missions Conference and a night to get together as a whole church family over a meal. You will meet our guest speaker for the week\, with special features from our Mission Partners. \nKids are encouraged to come. We will all eat dinner together to begin the night\, and after the meal we will offer a movie night for kids (Kindy – Year 6) in the Hub. When registering\, you can advise us how many kids can come. \nDinner will be ‘pot luck’\, so everyone is encouraged to bring a main to share. Don’t be put off if you can’t cook\, you can just bring something bought or some bread rolls to share. Please bring a list of ingredients to place with your share meal. If you can indicate on your registration whether you plan to bring a savoury or sweet dish that will help us with planning. *Please note\, bring food ready to be shared – we don’t have capacity for preheating or cooking on site prior to the event) \nDate: Saturday\, 16 August \nTime: 6-8:30pm \nLocation: Figtree Anglican Church \nCost: Free \n\n\nREGISTER
URL:https://figtree.church/event/missions-pot-luck-dinner/
LOCATION:Figtree Anglican Church\, 4-10 Gibsons Road\, Figtree\, NSW\, 2525\, Australia
ATTACH;FMTTYPE=image/jpeg:https://figtree.church/wp-content/uploads/2025/07/wmc-event-missions-dinner.jpg
END:VEVENT
BEGIN:VEVENT
DTSTART;TZID=Australia/Melbourne:20250818T193000
DTEND;TZID=Australia/Melbourne:20250818T213000
DTSTAMP:20260421T194550
CREATED:20250731T064547Z
LAST-MODIFIED:20250731T064547Z
UID:5634-1755545400-1755552600@figtree.church
SUMMARY:Monday Night Conversation
DESCRIPTION:Come along for a night getting to know our World Missions Conference speakers\, Warwick and Caroline de Jersey. We will get to hear their story; from being one of our CMS Mission Partners\, to being back in Australia\, their journey of restoration\, and their heart behind ‘Multiplying Disciples’. \nThe night will also feature a presentation about the ministry of Elizabeth in the Middle East. \nDate: Monday\, 18 August \nTime: 7:30-9:30pm \nLocation: Figtree Anglican Church Auditorium
URL:https://figtree.church/event/monday-night-conversation/
LOCATION:Figtree Anglican Church\, 4-10 Gibsons Road\, Figtree\, NSW\, 2525\, Australia
ATTACH;FMTTYPE=image/jpeg:https://figtree.church/wp-content/uploads/2025/07/wmc-event-monday-night.jpg
END:VEVENT
BEGIN:VEVENT
DTSTART;TZID=Australia/Melbourne:20250819T070000
DTEND;TZID=Australia/Melbourne:20250819T081500
DTSTAMP:20260421T194550
CREATED:20250723T022815Z
LAST-MODIFIED:20250805T064946Z
UID:5451-1755586800-1755591300@figtree.church
SUMMARY:Missions Breakfast
DESCRIPTION:REGISTER\n\n\n\n\n\n\n\n\nWe are pleased to partner with Ambiance Ristorante Cafe in Unanderra for this year’s Missions Breakfast; part of our annual World Missions Conference. As well as starting your day with a delicious breakfast\, you will be amazed and encouraged as you hear from Joel Narayan about the work of Open Doors in India and around the world. \nDate: Tuesday\, 19 August \nTime: 7-8:15am \nLocation: Ambiance Ristorante\, 4/63-67 Princes Highway\, Unanderra \nCost: $32pp \nRSVP: Please register by Thursday\, 14 August \nBreakfast will be individually plated\, each guest to receive their own plate with: \n\n\nSourdough toast\, baby spinach\, eggs (poached or scrambled)\, bacon\, potato rosti \n\n\nMini Pancakes with maple syrup and berry compote \n\n\nSeasonal fresh fruit \n\n\nA choice of hot or cold beverage (Coffee\, tea\, juice) \n\n\n(You can advise of any dietary restrictions when registering) \n\n\nREGISTER
URL:https://figtree.church/event/missions-breakfast/
LOCATION:Ambiance Ristorante\, 4/63-67 Princes Hwy\, Unanderra\, NSW\, 2526\, Australia
ATTACH;FMTTYPE=image/jpeg:https://figtree.church/wp-content/uploads/2025/07/wmc-event-missions-breakfast.jpg
END:VEVENT
BEGIN:VEVENT
DTSTART;TZID=Australia/Melbourne:20250819T190000
DTEND;TZID=Australia/Melbourne:20250819T210000
DTSTAMP:20260421T194550
CREATED:20250731T065119Z
LAST-MODIFIED:20250731T065148Z
UID:5639-1755630000-1755637200@figtree.church
SUMMARY:Mission in the Modern World
DESCRIPTION:A teaching night within our World Missions Conference\, exploring the questions many people ask about mission. Our Young Adults Ministers\, Ruth and Pete\, will discuss common misconceptions such as: \n\n“Mission is only for ministers or specially called people”;\n“The mission field is only in the Developing World”;\n“Mission is no longer needed because the gospel has reached the ends of the earth”;\n“Missionaries just impose Western culture”\n\nThe night will also feature interviews with young adults who have been involved in cross-cultural mission\, along with a presentation on the Nigerian Anglican Youth Project with Evangelism Explosion. \nDate: Tuesday\, 19 August \nTime: 7-9pm \nLocation: The Hub\, Figtree Anglican Church
URL:https://figtree.church/event/mission-in-the-modern-world/
LOCATION:Figtree Anglican Church\, 4-10 Gibsons Road\, Figtree\, NSW\, 2525\, Australia
ATTACH;FMTTYPE=image/jpeg:https://figtree.church/wp-content/uploads/2025/07/wmc-event-mission-modern-world.jpg
END:VEVENT
BEGIN:VEVENT
DTSTART;TZID=Australia/Melbourne:20250820T120000
DTEND;TZID=Australia/Melbourne:20250820T140000
DTSTAMP:20260421T194550
CREATED:20250723T023501Z
LAST-MODIFIED:20250805T064816Z
UID:5457-1755691200-1755698400@figtree.church
SUMMARY:Seniors & Retirees Missions Luncheon
DESCRIPTION:REGISTER\n\n\n\n\n\n\n\n\nJoin us for a delicious lunch and a time of connection and inspiration as part of our World Missions Conference! We’re excited to welcome special guest Rod Story from Evangelism Explosion. He will be sharing about an exciting new partnership with the Anglican Diocese in Nigeria. Beginning in September\, Rod and young members from FAC will train local leaders to equip 100 churches to train and share the gospel. \nDate: Wednesday\, 20 August \nTime: 12-2pm \nLocation: The Hub\, Figtree Anglican Church \nCost: $10pp \n\n\nREGISTER
URL:https://figtree.church/event/seniors-retirees-missions-luncheon/
LOCATION:Figtree Anglican Church\, 4-10 Gibsons Road\, Figtree\, NSW\, 2525\, Australia
CATEGORIES:Seniors and Retirees
ATTACH;FMTTYPE=image/jpeg:https://figtree.church/wp-content/uploads/2025/07/wmc-event-seniors-lunch.jpg
END:VEVENT
BEGIN:VEVENT
DTSTART;TZID=Australia/Melbourne:20250821T093000
DTEND;TZID=Australia/Melbourne:20250821T103000
DTSTAMP:20260421T194550
CREATED:20250731T065921Z
LAST-MODIFIED:20250731T065921Z
UID:5643-1755768600-1755772200@figtree.church
SUMMARY:Women Alive - Missions Focus
DESCRIPTION:Open to women of all ages\, Women Alive will have a focus on mission during the World Missions Conference. The morning will feature a presentation from Caroline de Jersey\, who has 30 years’ experience focusing on ministry to women. We will also hear from Esther Phan about the Church for the Deaf at Lighthouse Evangelical Church  in Vietnam. \nDate: Thursday\, 21 August \nTime: 9:30am \nLocation: Figtree Anglican Church foyer \nNote: A creche is available during the event.
URL:https://figtree.church/event/women-alive-missions-focus/
LOCATION:Figtree Anglican Church\, 4-10 Gibsons Road\, Figtree\, NSW\, 2525\, Australia
CATEGORIES:Women
ATTACH;FMTTYPE=image/jpeg:https://figtree.church/wp-content/uploads/2025/07/wmc-event-women-alive.jpg
END:VEVENT
BEGIN:VEVENT
DTSTART;TZID=Australia/Melbourne:20250821T193000
DTEND;TZID=Australia/Melbourne:20250821T210000
DTSTAMP:20260421T194550
CREATED:20250801T022900Z
LAST-MODIFIED:20250801T022900Z
UID:5656-1755804600-1755810000@figtree.church
SUMMARY:Indigenous Night
DESCRIPTION:Our Mission Partner\, the Bible Society Australia will bring us a focus on Indigenous ministry as part of our World Missions Conference. Sam Collins will give us insight into our ongoing partnership with Nungalinya Bible College in Darwin and the equipping of Indigenous translation work around Australia. \nDate: Thursday\, 21 August \nTime: 7:30-9pm \nLocation: Figtree Anglican Church Auditorium
URL:https://figtree.church/event/indigenous-night/
LOCATION:Figtree Anglican Church\, 4-10 Gibsons Road\, Figtree\, NSW\, 2525\, Australia
ATTACH;FMTTYPE=image/jpeg:https://figtree.church/wp-content/uploads/2025/07/wmc-event-indigenous-night.jpg
END:VEVENT
BEGIN:VEVENT
DTSTART;TZID=Australia/Melbourne:20250823T080000
DTEND;TZID=Australia/Melbourne:20250824T080000
DTSTAMP:20260421T194550
CREATED:20250729T031943Z
LAST-MODIFIED:20250729T032604Z
UID:5549-1755936000-1756022400@figtree.church
SUMMARY:24 Hours of Prayer
DESCRIPTION:BOOK A TIME\n\n\n\n\n\n\n\n\nWe invite you to join us in prayer for world mission as part of our World Missions Conference. \nCome to FAC and pray together for world mission. This will take place in one-hour slots for 24 hours\, starting at 8am on Saturday and finishing at 8am on Sunday.  \nBook a slot by contacting Danny Wong: via email: dwj316@gmail.com or text message: 0421 742 891. \nDate: 8am Saturday\, 23 August – 8am Sunday\, 24 August \nLocation: The Hub\, Figtree Anglican Church \n\n\nBOOK A TIME
URL:https://figtree.church/event/24-hours-of-prayer/
LOCATION:Figtree Anglican Church\, 4-10 Gibsons Road\, Figtree\, NSW\, 2525\, Australia
ATTACH;FMTTYPE=image/jpeg:https://figtree.church/wp-content/uploads/2025/07/wmc-event-24hour-prayer.jpg
END:VEVENT
BEGIN:VEVENT
DTSTART;VALUE=DATE:20250824
DTEND;VALUE=DATE:20250825
DTSTAMP:20260421T194550
CREATED:20250801T023350Z
LAST-MODIFIED:20250801T023350Z
UID:5660-1755993600-1756079999@figtree.church
SUMMARY:Missions Expo
DESCRIPTION:Representatives from more than 15 mission organisations will be in the FAC foyer\, where you can interact with them\, learn more about what they do\, and make your own connections. Our children will also interact with them during their morning Kids Church program\, and our youth during their Fuel time. \nDate: Sunday\, 24 August \nTime: After the 8am and 10am services\, and from 4-6pm \nLocation: Figtree Anglican Church foyer
URL:https://figtree.church/event/missions-expo/
LOCATION:Figtree Anglican Church\, 4-10 Gibsons Road\, Figtree\, NSW\, 2525\, Australia
ATTACH;FMTTYPE=image/jpeg:https://figtree.church/wp-content/uploads/2025/07/wmc-event-missions-expo.jpg
END:VEVENT
BEGIN:VEVENT
DTSTART;VALUE=DATE:20250831
DTEND;VALUE=DATE:20250901
DTSTAMP:20260421T194550
CREATED:20250715T040859Z
LAST-MODIFIED:20250715T040859Z
UID:5212-1756598400-1756684799@figtree.church
SUMMARY:Young Adults Fam Dinner - August
DESCRIPTION:Our Young Adults community will be meeting at a local home for dinner following the Sunday 6pm church service. Find out more at the service\, and follow @figtreeyoungadults on Instagram for the latest news. \nFind the Figtree Young Adults Facebook group here.
URL:https://figtree.church/event/young-adults-fam-dinner-august/
LOCATION:NSW
CATEGORIES:Young Adults
ATTACH;FMTTYPE=image/jpeg:https://figtree.church/wp-content/uploads/2025/04/Fam-Dinner-website-2025.jpg
END:VEVENT
END:VCALENDAR